BEGIN:VCALENDAR
VERSION:2.0
PRODID:-//Action Water Sports - ECPv6.15.20//NONSGML v1.0//EN
CALSCALE:GREGORIAN
METHOD:PUBLISH
X-WR-CALNAME:Action Water Sports
X-ORIGINAL-URL:https://actionwater.com
X-WR-CALDESC:Events for Action Water Sports
REFRESH-INTERVAL;VALUE=DURATION:PT1H
X-Robots-Tag:noindex
X-PUBLISHED-TTL:PT1H
BEGIN:VTIMEZONE
TZID:America/Detroit
BEGIN:DAYLIGHT
TZOFFSETFROM:-0500
TZOFFSETTO:-0400
TZNAME:EDT
DTSTART:20250309T070000
END:DAYLIGHT
BEGIN:STANDARD
TZOFFSETFROM:-0400
TZOFFSETTO:-0500
TZNAME:EST
DTSTART:20251102T060000
END:STANDARD
BEGIN:DAYLIGHT
TZOFFSETFROM:-0500
TZOFFSETTO:-0400
TZNAME:EDT
DTSTART:20260308T070000
END:DAYLIGHT
BEGIN:STANDARD
TZOFFSETFROM:-0400
TZOFFSETTO:-0500
TZNAME:EST
DTSTART:20261101T060000
END:STANDARD
BEGIN:DAYLIGHT
TZOFFSETFROM:-0500
TZOFFSETTO:-0400
TZNAME:EDT
DTSTART:20270314T070000
END:DAYLIGHT
BEGIN:STANDARD
TZOFFSETFROM:-0400
TZOFFSETTO:-0500
TZNAME:EST
DTSTART:20271107T060000
END:STANDARD
END:VTIMEZONE
BEGIN:VEVENT
DTSTART;TZID=America/Detroit:20260618T120000
DTEND;TZID=America/Detroit:20260618T170000
DTSTAMP:20260422T180901
CREATED:20250515T163331Z
LAST-MODIFIED:20260422T135609Z
UID:10000390-1781784000-1781802000@actionwater.com
SUMMARY:Riverwalk Grill Ride and Drive
DESCRIPTION:Join us on June 18th from 12pm to 5pm to get behind the wheel of a new MasterCraft\, Cobalt\, Tidewater\, or Barletta Pontoon boat. \nThis is an opportunity to see what new innovations can be found on these premium boats all while getting a feel for the boat. Be sure to RSVP in advance. \nWe hope to see you there! \nStay tuned to sign up.
URL:https://actionwater.com/event/riverwalk-grill-ride-and-drive/
LOCATION:Riverwalk Grill\, 106 Ames St.\, Elk Rapids\, MI\, 49629\, United States
CATEGORIES:Lake Charlevoix, MI,Traverse City, MI
END:VEVENT
END:VCALENDAR