BEGIN:VCALENDAR
VERSION:2.0
PRODID:-//Action Water Sports - ECPv6.15.20//NONSGML v1.0//EN
CALSCALE:GREGORIAN
METHOD:PUBLISH
X-ORIGINAL-URL:https://actionwater.com
X-WR-CALDESC:Events for Action Water Sports
REFRESH-INTERVAL;VALUE=DURATION:PT1H
X-Robots-Tag:noindex
X-PUBLISHED-TTL:PT1H
BEGIN:VTIMEZONE
TZID:America/Detroit
BEGIN:DAYLIGHT
TZOFFSETFROM:-0500
TZOFFSETTO:-0400
TZNAME:EDT
DTSTART:20220313T070000
END:DAYLIGHT
BEGIN:STANDARD
TZOFFSETFROM:-0400
TZOFFSETTO:-0500
TZNAME:EST
DTSTART:20221106T060000
END:STANDARD
BEGIN:DAYLIGHT
TZOFFSETFROM:-0500
TZOFFSETTO:-0400
TZNAME:EDT
DTSTART:20230312T070000
END:DAYLIGHT
BEGIN:STANDARD
TZOFFSETFROM:-0400
TZOFFSETTO:-0500
TZNAME:EST
DTSTART:20231105T060000
END:STANDARD
BEGIN:DAYLIGHT
TZOFFSETFROM:-0500
TZOFFSETTO:-0400
TZNAME:EDT
DTSTART:20240310T070000
END:DAYLIGHT
BEGIN:STANDARD
TZOFFSETFROM:-0400
TZOFFSETTO:-0500
TZNAME:EST
DTSTART:20241103T060000
END:STANDARD
END:VTIMEZONE
BEGIN:VEVENT
DTSTART;TZID=America/Detroit:20230810T170000
DTEND;TZID=America/Detroit:20230810T210000
DTSTAMP:20260421T071128
CREATED:20230801T155431Z
LAST-MODIFIED:20230801T155431Z
UID:10000071-1691686800-1691701200@actionwater.com
SUMMARY:Boatwerks Ride & Drive
DESCRIPTION:We are excited to bring you the opportunity to get behind the wheel of a MasterCraft\, Barletta Pontoon\, or Cobalt. See how MasterCraft’s SurfStar system produces the best surf wave in the industry\, take a cruise on one of Barletta’s smoothest-riding luxury pontoons\, or jump in West-Michigan’s most popular bowrider.   
URL:https://actionwater.com/event/boatwerks-ride-drive-event/2023-08-10/
LOCATION:Boatwerks Waterfront Restaurant\, 216 Van Raalte Ave\, Holland\, MI\, 49423\, United States
CATEGORIES:Grand Rapids, MI
ATTACH;FMTTYPE=image/jpeg:https://actionwater.com/wp-content/uploads/2023/08/MCMY24_X26_WEBSOCIAL-393-e1690905240806.jpg
END:VEVENT
BEGIN:VEVENT
DTSTART;TZID=America/Detroit:20230809T170000
DTEND;TZID=America/Detroit:20230809T210000
DTSTAMP:20260421T071128
CREATED:20230801T155431Z
LAST-MODIFIED:20230801T155431Z
UID:10000070-1691600400-1691614800@actionwater.com
SUMMARY:Boatwerks Ride & Drive
DESCRIPTION:We are excited to bring you the opportunity to get behind the wheel of a MasterCraft\, Barletta Pontoon\, or Cobalt. See how MasterCraft’s SurfStar system produces the best surf wave in the industry\, take a cruise on one of Barletta’s smoothest-riding luxury pontoons\, or jump in West-Michigan’s most popular bowrider.   
URL:https://actionwater.com/event/boatwerks-ride-drive-event/2023-08-09/
LOCATION:Boatwerks Waterfront Restaurant\, 216 Van Raalte Ave\, Holland\, MI\, 49423\, United States
CATEGORIES:Grand Rapids, MI
ATTACH;FMTTYPE=image/jpeg:https://actionwater.com/wp-content/uploads/2023/08/MCMY24_X26_WEBSOCIAL-393-e1690905240806.jpg
END:VEVENT
BEGIN:VEVENT
DTSTART;VALUE=DATE:20230809
DTEND;VALUE=DATE:20230905
DTSTAMP:20260421T071128
CREATED:20230811T151220Z
LAST-MODIFIED:20230811T151252Z
UID:10000087-1691539200-1693871999@actionwater.com
SUMMARY:Summer Sales Event
DESCRIPTION:We’ve partnered with manufacturers to offer you the best incentives of the year on new\, in-stock 2023 models. This is the perfect opportunity to upgrade to your dream boat and take advantage of an offer you can’t resist. Now through Labor Day\, make this summer the best ever and save thousands while doing so.  
URL:https://actionwater.com/event/summer-sales-event/
CATEGORIES:Central Florida,Detroit, MI,Grand Rapids, MI,Traverse City, MI
ATTACH;FMTTYPE=image/jpeg:https://actionwater.com/wp-content/uploads/2023/08/thumbnail_summer-sales-event.jpg
END:VEVENT
BEGIN:VEVENT
DTSTART;VALUE=DATE:20230803
DTEND;VALUE=DATE:20230804
DTSTAMP:20260421T071128
CREATED:20230801T162047Z
LAST-MODIFIED:20230801T163644Z
UID:10000076-1691020800-1691107199@actionwater.com
SUMMARY:Rule the Water Tour - Hudsonville
DESCRIPTION:We are excited to bring the Rule the Water Tour\, hosted by MasterCraft\, to this area. Join us to experience the industry-leading SurfStar system\, comfortable seating\, and other innovative features offered on MasterCraft boats.
URL:https://actionwater.com/event/rule-the-water-tour-hudsonville/
LOCATION:Boatwerks Waterfront Restaurant\, 216 Van Raalte Ave\, Holland\, MI\, 49423\, United States
CATEGORIES:Grand Rapids, MI
ATTACH;FMTTYPE=image/jpeg:https://actionwater.com/wp-content/uploads/2023/08/MC_NXT23_300DPI_FINALS-373-e1690905742907.jpg
END:VEVENT
END:VCALENDAR